BEGIN:VCALENDAR
VERSION:2.0
PRODID:-//LADD, Inc. - ECPv6.15.17.1//NONSGML v1.0//EN
CALSCALE:GREGORIAN
METHOD:PUBLISH
X-ORIGINAL-URL:https://myladd.laddinc.net
X-WR-CALDESC:Events for LADD, Inc.
REFRESH-INTERVAL;VALUE=DURATION:PT1H
X-Robots-Tag:noindex
X-PUBLISHED-TTL:PT1H
BEGIN:VTIMEZONE
TZID:America/New_York
BEGIN:DAYLIGHT
TZOFFSETFROM:-0500
TZOFFSETTO:-0400
TZNAME:EDT
DTSTART:20240310T070000
END:DAYLIGHT
BEGIN:STANDARD
TZOFFSETFROM:-0400
TZOFFSETTO:-0500
TZNAME:EST
DTSTART:20241103T060000
END:STANDARD
BEGIN:DAYLIGHT
TZOFFSETFROM:-0500
TZOFFSETTO:-0400
TZNAME:EDT
DTSTART:20250309T070000
END:DAYLIGHT
BEGIN:STANDARD
TZOFFSETFROM:-0400
TZOFFSETTO:-0500
TZNAME:EST
DTSTART:20251102T060000
END:STANDARD
BEGIN:DAYLIGHT
TZOFFSETFROM:-0500
TZOFFSETTO:-0400
TZNAME:EDT
DTSTART:20260308T070000
END:DAYLIGHT
BEGIN:STANDARD
TZOFFSETFROM:-0400
TZOFFSETTO:-0500
TZNAME:EST
DTSTART:20261101T060000
END:STANDARD
END:VTIMEZONE
BEGIN:VEVENT
DTSTART;TZID=America/New_York:20250801T130000
DTEND;TZID=America/New_York:20250801T153000
DTSTAMP:20260421T072843
CREATED:20250801T075245Z
LAST-MODIFIED:20250801T075245Z
UID:7189-1754053200-1754062200@myladd.laddinc.net
SUMMARY:Vibe@5 Concert Series - Leave Those Kids Alone Beatles to Led Zeppelin
DESCRIPTION:The Vibe@5 concert series will take place at Friendship Park in downtown Battle Creek from 5:30pm to 7:30pm. \nAs Part of the downtown social district\, adult drinks purchased at a downtown bar or restaurant may be consumed with in the park. \nJuly 11 – Atomic Annie 70’s – 90’s\nJuly 18 – Toppermost Beatles’s Tribute\nJuly 25 – Allie Garland Band 50’s – Today\nAug 1 – Leave Those Kids Alone Beatles to Led Zeppelin\nAug 8 – Tony Thompson & Friends Funk / Motown / Soul / R&B\nAug 15 – Iconix Classic Rock / R&B / Pop \nEnjoy Food / Adult Drinks / Great Music \nIn the event of rain\, the concert will be moved to Handmap Brewery\, with announcement made on the Kellogg Arena facebook page by 4:00pm. \nFor more information\, please contact David Bauman at davidbauma@aol.com
URL:https://myladd.laddinc.net/event/vibe5-concert-series-leave-those-kids-alone-beatles-to-led-zeppelin/
LOCATION:Friendship Park\, Capital Ave NE\, Battle Creek\, MI\, 49017\, United States
CATEGORIES:Free Events,Calhoun County Events,Wheelchair Accessible,Community Events,Outdoors & Nature
END:VEVENT
BEGIN:VEVENT
DTSTART;TZID=America/New_York:20250801T100000
DTEND;TZID=America/New_York:20250801T160000
DTSTAMP:20260421T072844
CREATED:20250801T073908Z
LAST-MODIFIED:20250801T073942Z
UID:7183-1754042400-1754064000@myladd.laddinc.net
SUMMARY:2nd Annual Marshall Motorcross
DESCRIPTION:? Rev up your engines and join us for an exhilarating Car Show extravaganza! ? Calling all car enthusiasts to showcase their prized rides and share their passion for automotive excellence. From classic beauties to sleek modern marvels\, there’s something for everyone to admire. ? Don’t miss your chance to display your wheels or simply revel in the impressive lineup of vehicles on display. ? Mark your calendars and sign up now for a day of horsepower\, camaraderie\, and unforgettable memories! ?? \n 
URL:https://myladd.laddinc.net/event/2nd-annual-marshall-motorcross/
LOCATION:Downtown Marshall\, Marshall\, MI\, 49068\, United States
CATEGORIES:Free Events,Calhoun County Events,Outdoors & Nature
END:VEVENT
BEGIN:VEVENT
DTSTART;TZID=America/New_York:20250731T150000
DTEND;TZID=America/New_York:20250731T193000
DTSTAMP:20260421T072844
CREATED:20250630T005119Z
LAST-MODIFIED:20250630T005119Z
UID:7138-1753974000-1753990200@myladd.laddinc.net
SUMMARY:Music Bingo
DESCRIPTION:Come play Music Bingo at the Base Bar and Grill while enjoying $1 Wing Thursdays or just stop by for a pizza! Players can win a gift card to the Restaurant!
URL:https://myladd.laddinc.net/event/music-bingo-6/
LOCATION:The Base Bar & Grill\, 3905 W Dickman Rd\, Springfield\, MI\, 49037\, United States
CATEGORIES:Free Events,Calhoun County Events,Wheelchair Accessible,Music,Community Events
END:VEVENT
BEGIN:VEVENT
DTSTART;TZID=America/New_York:20250730T050000
DTEND;TZID=America/New_York:20250730T090000
DTSTAMP:20260421T072844
CREATED:20250630T010134Z
LAST-MODIFIED:20250630T010134Z
UID:7149-1753851600-1753866000@myladd.laddinc.net
SUMMARY:Battle Creek Farmers Market
DESCRIPTION:Where Community Gathers & Freshness Thrives! \nJoin us at the heart of downtown for the Battle Creek Farmers Market— your weekly destination for fresh produce\, local goods\, delicious eats\, and vibrant community spirit! \n When: Every Wednesday from May 14th through October 8th\n Where: Festival Market Square [25 McCamly St. Battle Creek\, MI)\n Time: 9:00 AM – 1:00 PM \nCome stroll through a lively outdoor market filled with fresh fruits and vegetables\, baked goods\, artisanal products\, and handmade crafts—all brought to you by local farmers\, makers\, and small businesses. \nEnjoy live music\, food trucks\, family-friendly activities\, and the warm\, welcoming vibe that makes the Battle Creek Farmers Market a local favorite. \nWhether you’re a regular or visiting for the first time\, we can’t wait to see you there! \nStay connected!\nFollow us on Facebook for vendor lists\, live entertainment schedules\, and special market events. \nVisit downtownbcfarmersmarket.com for vendor and sponsor information! \nThank you to our Farmers Market Sponsor: Athletico Physical Therapy 
URL:https://myladd.laddinc.net/event/battle-creek-farmers-market-5/
LOCATION:Festival Market Square\, 25 S McCamly St\, Battle Creek\, MI\, 49017\, United States
CATEGORIES:Free Events,Calhoun County Events,Wheelchair Accessible,Food & Drink,Outdoors & Nature
END:VEVENT
BEGIN:VEVENT
DTSTART;TZID=America/New_York:20250726T040000
DTEND;TZID=America/New_York:20250726T080000
DTSTAMP:20260421T072844
CREATED:20250630T013709Z
LAST-MODIFIED:20250630T013709Z
UID:7171-1753502400-1753516800@myladd.laddinc.net
SUMMARY:Marshall Area Farmer's Market
DESCRIPTION:It’s Saturday! Imagine entering our downtown Market at 125 West Green during our outdoor season mid-May to November and before you are a multitude of canopies featuring tables displaying an abundance of fresh\, local vegetables and fruits. Herbs\, eggs\, meats & poultry\, flowers and cinnamon bread aromas envelop your senses as shoppers stroll amid the wide aisles checking out the healthy\, tasty choices. There are smiles and casual conversations ensuing as people sip coffee while relaxing at tables on the grassy knolls. Youngsters may delight in the activities of the children’s tent\, while you listen to a guitarist strum a tune.
URL:https://myladd.laddinc.net/event/marshall-area-farmers-market-4/
LOCATION:Marshall Area Farmer’s Market\, 125 W Green St\, Marshall\, MI\, 49068\, United States
CATEGORIES:Free Events,Calhoun County Events,Wheelchair Accessible,Food & Drink,Outdoors & Nature
END:VEVENT
BEGIN:VEVENT
DTSTART;TZID=America/New_York:20250724T150000
DTEND;TZID=America/New_York:20250724T193000
DTSTAMP:20260421T072844
CREATED:20250630T005010Z
LAST-MODIFIED:20250630T005010Z
UID:7136-1753369200-1753385400@myladd.laddinc.net
SUMMARY:Music Bingo
DESCRIPTION:Come play Music Bingo at the Base Bar and Grill while enjoying $1 Wing Thursdays or just stop by for a pizza! Players can win a gift card to the Restaurant!
URL:https://myladd.laddinc.net/event/music-bingo-5/
LOCATION:The Base Bar & Grill\, 3905 W Dickman Rd\, Springfield\, MI\, 49037\, United States
CATEGORIES:Free Events,Calhoun County Events,Wheelchair Accessible,Community Events
END:VEVENT
BEGIN:VEVENT
DTSTART;TZID=America/New_York:20250723T050000
DTEND;TZID=America/New_York:20250723T090000
DTSTAMP:20260421T072844
CREATED:20250630T010017Z
LAST-MODIFIED:20250630T010017Z
UID:7147-1753246800-1753261200@myladd.laddinc.net
SUMMARY:Battle Creek Farmers Market
DESCRIPTION:Where Community Gathers & Freshness Thrives! \nJoin us at the heart of downtown for the Battle Creek Farmers Market— your weekly destination for fresh produce\, local goods\, delicious eats\, and vibrant community spirit! \n When: Every Wednesday from May 14th through October 8th\n Where: Festival Market Square [25 McCamly St. Battle Creek\, MI)\n Time: 9:00 AM – 1:00 PM \nCome stroll through a lively outdoor market filled with fresh fruits and vegetables\, baked goods\, artisanal products\, and handmade crafts—all brought to you by local farmers\, makers\, and small businesses. \nEnjoy live music\, food trucks\, family-friendly activities\, and the warm\, welcoming vibe that makes the Battle Creek Farmers Market a local favorite. \nWhether you’re a regular or visiting for the first time\, we can’t wait to see you there! \nStay connected!\nFollow us on Facebook for vendor lists\, live entertainment schedules\, and special market events. \nVisit downtownbcfarmersmarket.com for vendor and sponsor information! \nThank you to our Farmers Market Sponsor: Athletico Physical Therapy 
URL:https://myladd.laddinc.net/event/battle-creek-farmers-market-4/
LOCATION:Festival Market Square\, 25 S McCamly St\, Battle Creek\, MI\, 49017\, United States
CATEGORIES:Free Events,Calhoun County Events,Wheelchair Accessible,Food & Drink,Outdoors & Nature
END:VEVENT
BEGIN:VEVENT
DTSTART;TZID=America/New_York:20250719T040000
DTEND;TZID=America/New_York:20250719T080000
DTSTAMP:20260421T072844
CREATED:20250630T013532Z
LAST-MODIFIED:20250630T013532Z
UID:7169-1752897600-1752912000@myladd.laddinc.net
SUMMARY:Marshall Area Farmer's Market
DESCRIPTION:It’s Saturday! Imagine entering our downtown Market at 125 West Green during our outdoor season mid-May to November and before you are a multitude of canopies featuring tables displaying an abundance of fresh\, local vegetables and fruits. Herbs\, eggs\, meats & poultry\, flowers and cinnamon bread aromas envelop your senses as shoppers stroll amid the wide aisles checking out the healthy\, tasty choices. There are smiles and casual conversations ensuing as people sip coffee while relaxing at tables on the grassy knolls. Youngsters may delight in the activities of the children’s tent\, while you listen to a guitarist strum a tune.
URL:https://myladd.laddinc.net/event/marshall-area-farmers-market-3/
LOCATION:Marshall Area Farmer’s Market\, 125 W Green St\, Marshall\, MI\, 49068\, United States
CATEGORIES:Free Events,Calhoun County Events,Wheelchair Accessible,Food & Drink,Outdoors & Nature
END:VEVENT
BEGIN:VEVENT
DTSTART;TZID=America/New_York:20250717T150000
DTEND;TZID=America/New_York:20250717T193000
DTSTAMP:20260421T072844
CREATED:20250630T004905Z
LAST-MODIFIED:20250630T004905Z
UID:7134-1752764400-1752780600@myladd.laddinc.net
SUMMARY:Music Bingo
DESCRIPTION:Come play Music Bingo at the Base Bar and Grill while enjoying $1 Wing Thursdays or just stop by for a pizza! Players can win a gift card to the Restaurant!
URL:https://myladd.laddinc.net/event/music-bingo-4/
LOCATION:The Base Bar & Grill\, 3905 W Dickman Rd\, Springfield\, MI\, 49037\, United States
CATEGORIES:Free Events,Calhoun County Events,Wheelchair Accessible,Community Events
END:VEVENT
BEGIN:VEVENT
DTSTART;TZID=America/New_York:20250716T050000
DTEND;TZID=America/New_York:20250716T090000
DTSTAMP:20260421T072844
CREATED:20250630T005901Z
LAST-MODIFIED:20250630T005901Z
UID:7145-1752642000-1752656400@myladd.laddinc.net
SUMMARY:Battle Creek Farmers Market
DESCRIPTION:Where Community Gathers & Freshness Thrives! \nJoin us at the heart of downtown for the Battle Creek Farmers Market— your weekly destination for fresh produce\, local goods\, delicious eats\, and vibrant community spirit! \n When: Every Wednesday from May 14th through October 8th\n Where: Festival Market Square [25 McCamly St. Battle Creek\, MI)\n Time: 9:00 AM – 1:00 PM \nCome stroll through a lively outdoor market filled with fresh fruits and vegetables\, baked goods\, artisanal products\, and handmade crafts—all brought to you by local farmers\, makers\, and small businesses. \nEnjoy live music\, food trucks\, family-friendly activities\, and the warm\, welcoming vibe that makes the Battle Creek Farmers Market a local favorite. \nWhether you’re a regular or visiting for the first time\, we can’t wait to see you there! \nStay connected!\nFollow us on Facebook for vendor lists\, live entertainment schedules\, and special market events. \nVisit downtownbcfarmersmarket.com for vendor and sponsor information! \nThank you to our Farmers Market Sponsor: Athletico Physical Therapy 
URL:https://myladd.laddinc.net/event/battle-creek-farmers-market-3/
LOCATION:Festival Market Square\, 25 S McCamly St\, Battle Creek\, MI\, 49017\, United States
CATEGORIES:Free Events,Calhoun County Events,Wheelchair Accessible,Food & Drink,Community Events,Outdoors & Nature
END:VEVENT
BEGIN:VEVENT
DTSTART;TZID=America/New_York:20250712T040000
DTEND;TZID=America/New_York:20250712T080000
DTSTAMP:20260421T072844
CREATED:20250630T013408Z
LAST-MODIFIED:20250630T013408Z
UID:7167-1752292800-1752307200@myladd.laddinc.net
SUMMARY:Marshall Area Farmer's Market
DESCRIPTION:It’s Saturday! Imagine entering our downtown Market at 125 West Green during our outdoor season mid-May to November and before you are a multitude of canopies featuring tables displaying an abundance of fresh\, local vegetables and fruits. Herbs\, eggs\, meats & poultry\, flowers and cinnamon bread aromas envelop your senses as shoppers stroll amid the wide aisles checking out the healthy\, tasty choices. There are smiles and casual conversations ensuing as people sip coffee while relaxing at tables on the grassy knolls. Youngsters may delight in the activities of the children’s tent\, while you listen to a guitarist strum a tune.
URL:https://myladd.laddinc.net/event/marshall-area-farmers-market-2/
LOCATION:Marshall Area Farmer’s Market\, 125 W Green St\, Marshall\, MI\, 49068\, United States
CATEGORIES:Free Events,Calhoun County Events,Wheelchair Accessible,Food & Drink,Outdoors & Nature
END:VEVENT
BEGIN:VEVENT
DTSTART;TZID=America/New_York:20250710T150000
DTEND;TZID=America/New_York:20250710T193000
DTSTAMP:20260421T072844
CREATED:20250630T004741Z
LAST-MODIFIED:20250630T004741Z
UID:7132-1752159600-1752175800@myladd.laddinc.net
SUMMARY:Music Bingo
DESCRIPTION:Come play Music Bingo at the Base Bar and Grill while enjoying $1 Wing Thursdays or just stop by for a pizza! Players can win a gift card to the Restaurant!
URL:https://myladd.laddinc.net/event/music-bingo-3/
LOCATION:The Base Bar & Grill\, 3905 W Dickman Rd\, Springfield\, MI\, 49037\, United States
CATEGORIES:Free Events,Calhoun County Events,Wheelchair Accessible,Food & Drink
END:VEVENT
BEGIN:VEVENT
DTSTART;TZID=America/New_York:20250709T050000
DTEND;TZID=America/New_York:20250709T090000
DTSTAMP:20260421T072844
CREATED:20250630T005757Z
LAST-MODIFIED:20250630T005757Z
UID:7143-1752037200-1752051600@myladd.laddinc.net
SUMMARY:Battle Creek Farmers Market
DESCRIPTION:Where Community Gathers & Freshness Thrives! \nJoin us at the heart of downtown for the Battle Creek Farmers Market— your weekly destination for fresh produce\, local goods\, delicious eats\, and vibrant community spirit! \n When: Every Wednesday from May 14th through October 8th\n Where: Festival Market Square [25 McCamly St. Battle Creek\, MI)\n Time: 9:00 AM – 1:00 PM \nCome stroll through a lively outdoor market filled with fresh fruits and vegetables\, baked goods\, artisanal products\, and handmade crafts—all brought to you by local farmers\, makers\, and small businesses. \nEnjoy live music\, food trucks\, family-friendly activities\, and the warm\, welcoming vibe that makes the Battle Creek Farmers Market a local favorite. \nWhether you’re a regular or visiting for the first time\, we can’t wait to see you there! \nStay connected!\nFollow us on Facebook for vendor lists\, live entertainment schedules\, and special market events. \nVisit downtownbcfarmersmarket.com for vendor and sponsor information! \nThank you to our Farmers Market Sponsor: Athletico Physical Therapy 
URL:https://myladd.laddinc.net/event/battle-creek-farmers-market-2/
LOCATION:Festival Market Square\, 25 S McCamly St\, Battle Creek\, MI\, 49017\, United States
CATEGORIES:Free Events,Calhoun County Events,Wheelchair Accessible,Food & Drink,Community Events,Outdoors & Nature
END:VEVENT
BEGIN:VEVENT
DTSTART;TZID=America/New_York:20250705T040000
DTEND;TZID=America/New_York:20250705T130000
DTSTAMP:20260421T072844
CREATED:20250630T012742Z
LAST-MODIFIED:20250630T012742Z
UID:7162-1751688000-1751720400@myladd.laddinc.net
SUMMARY:Cruise At The Fountain 2025
DESCRIPTION:Swap Meet\, Craft Show\, Sock Hop Dance\, Vendors… and more!\nThis will be a 2 day event! Check us out at www.CruiseMarshall.com for more information. Free T-shirt and goodie bags for first 100.\nDATES/TIME: July 4\, 2025SOCK HOP DANCEEarly registration CraftsFood*more to be announced soon\nCRUISE AT THE FOUINTAIN EVENT“Spirit of the 4th”Date: Saturday\, July 5\, 2025Vintage cars\, campers\, motorcycles showBandArts and CraftsFood VendorsGamesPrizes\, 50/50 drawingAwards- personalized with winning vehicleParade to downtown Marshall\, street closure for cars to park\, band/dancing\, cruising Marshall\, enjoy dining downtown and social districtCheck website for updated information as more to come\nRegistration Form: https://calhouncountyfairgrounds.com/…/2025-Cruise-Car…\nVendor Form: https://calhouncountyfairgrounds.com/…/2025-Cruise…\n269-781-8161ccaiscruise@gmail.com
URL:https://myladd.laddinc.net/event/cruise-at-the-fountain-2025-2/
LOCATION:Calhoun County Fairgrounds\, 720 Fair Street\, Marshall\, MI\, 49068\, United States
CATEGORIES:Free Events,Calhoun County Events,Wheelchair Accessible,Food & Drink,Community Events,Outdoors & Nature
END:VEVENT
BEGIN:VEVENT
DTSTART;TZID=America/New_York:20250705T040000
DTEND;TZID=America/New_York:20250705T080000
DTSTAMP:20260421T072844
CREATED:20250630T013306Z
LAST-MODIFIED:20250630T013306Z
UID:7164-1751688000-1751702400@myladd.laddinc.net
SUMMARY:Marshall Area Farmers Market
DESCRIPTION:It’s Saturday! Imagine entering our downtown Market at 125 West Green during our outdoor season mid-May to November and before you are a multitude of canopies featuring tables displaying an abundance of fresh\, local vegetables and fruits. Herbs\, eggs\, meats & poultry\, flowers and cinnamon bread aromas envelop your senses as shoppers stroll amid the wide aisles checking out the healthy\, tasty choices. There are smiles and casual conversations ensuing as people sip coffee while relaxing at tables on the grassy knolls. Youngsters may delight in the activities of the children’s tent\, while you listen to a guitarist strum a tune. \n 
URL:https://myladd.laddinc.net/event/marshall-area-farmers-market/
LOCATION:Marshall Area Farmer’s Market\, 125 W Green St\, Marshall\, MI\, 49068\, United States
CATEGORIES:Free Events,Calhoun County Events,Wheelchair Accessible,Food & Drink,Community Events,Outdoors & Nature
END:VEVENT
BEGIN:VEVENT
DTSTART;TZID=America/New_York:20250704T040000
DTEND;TZID=America/New_York:20250704T130000
DTSTAMP:20260421T072844
CREATED:20250630T012645Z
LAST-MODIFIED:20250630T012645Z
UID:7159-1751601600-1751634000@myladd.laddinc.net
SUMMARY:Cruise At The Fountain 2025
DESCRIPTION:Swap Meet\, Craft Show\, Sock Hop Dance\, Vendors… and more!\nThis will be a 2 day event! Check us out at www.CruiseMarshall.com for more information. Free T-shirt and goodie bags for first 100.\nDATES/TIME: July 4\, 2025SOCK HOP DANCEEarly registration CraftsFood*more to be announced soon\nCRUISE AT THE FOUINTAIN EVENT“Spirit of the 4th”Date: Saturday\, July 5\, 2025Vintage cars\, campers\, motorcycles showBandArts and CraftsFood VendorsGamesPrizes\, 50/50 drawingAwards- personalized with winning vehicleParade to downtown Marshall\, street closure for cars to park\, band/dancing\, cruising Marshall\, enjoy dining downtown and social districtCheck website for updated information as more to come\nRegistration Form: https://calhouncountyfairgrounds.com/…/2025-Cruise-Car…\nVendor Form: https://calhouncountyfairgrounds.com/…/2025-Cruise…\n269-781-8161ccaiscruise@gmail.com
URL:https://myladd.laddinc.net/event/cruise-at-the-fountain-2025/
LOCATION:Calhoun County Fairgrounds\, 720 Fair Street\, Marshall\, MI\, 49068\, United States
CATEGORIES:Free Events,Calhoun County Events,Wheelchair Accessible,Food & Drink,Community Events,Outdoors & Nature
END:VEVENT
BEGIN:VEVENT
DTSTART;TZID=America/New_York:20250703T150000
DTEND;TZID=America/New_York:20250703T193000
DTSTAMP:20260421T072844
CREATED:20250630T004603Z
LAST-MODIFIED:20250630T004603Z
UID:7130-1751554800-1751571000@myladd.laddinc.net
SUMMARY:Music Bingo
DESCRIPTION:Come play Music Bingo at the Base Bar and Grill while enjoying $1 Wing Thursdays or just stop by for a pizza! Players can win a gift card to the Restaurant!
URL:https://myladd.laddinc.net/event/music-bingo-2/
LOCATION:The Base Bar & Grill\, 3905 W Dickman Rd\, Springfield\, MI\, 49037\, United States
CATEGORIES:Free Events,Calhoun County Events,Wheelchair Accessible,Food & Drink,Community Events
END:VEVENT
BEGIN:VEVENT
DTSTART;TZID=America/New_York:20250702T050000
DTEND;TZID=America/New_York:20250702T090000
DTSTAMP:20260421T072844
CREATED:20250630T005618Z
LAST-MODIFIED:20250630T005618Z
UID:7140-1751432400-1751446800@myladd.laddinc.net
SUMMARY:Battle Creek Farmers Market
DESCRIPTION:Where Community Gathers & Freshness Thrives! \nJoin us at the heart of downtown for the Battle Creek Farmers Market— your weekly destination for fresh produce\, local goods\, delicious eats\, and vibrant community spirit! \n When: Every Wednesday from May 14th through October 8th\n Where: Festival Market Square [25 McCamly St. Battle Creek\, MI)\n Time: 9:00 AM – 1:00 PM \nCome stroll through a lively outdoor market filled with fresh fruits and vegetables\, baked goods\, artisanal products\, and handmade crafts—all brought to you by local farmers\, makers\, and small businesses. \nEnjoy live music\, food trucks\, family-friendly activities\, and the warm\, welcoming vibe that makes the Battle Creek Farmers Market a local favorite. \nWhether you’re a regular or visiting for the first time\, we can’t wait to see you there! \nStay connected!\nFollow us on Facebook for vendor lists\, live entertainment schedules\, and special market events. \nVisit downtownbcfarmersmarket.com for vendor and sponsor information! \nThank you to our Farmers Market Sponsor: Athletico Physical Therapy 
URL:https://myladd.laddinc.net/event/battle-creek-farmers-market/
LOCATION:Festival Market Square\, 25 S McCamly St\, Battle Creek\, MI\, 49017\, United States
CATEGORIES:Free Events,Calhoun County Events,Wheelchair Accessible,Food & Drink,Outdoors & Nature
END:VEVENT
BEGIN:VEVENT
DTSTART;TZID=America/New_York:20250629T130000
DTEND;TZID=America/New_York:20250629T170000
DTSTAMP:20260421T072844
CREATED:20250629T235751Z
LAST-MODIFIED:20250629T235751Z
UID:7127-1751202000-1751216400@myladd.laddinc.net
SUMMARY:Trivia Night at Fiesta Mexicana
DESCRIPTION:Come join us for an amazing night of trivia\, prizes\, and drink specials. It’s Trivia @ Fiesta Mexicana! Test your trivia knowledge and compete against your friends and other patrons. It’s fun to play\, and everyone is welcome! We’ll see you there!
URL:https://myladd.laddinc.net/event/trivia-night-at-fiesta-mexicana/
LOCATION:Fiesta Mexicana\, 181 E Columbia Ave\, Battle Creek\, MI\, 49015\, United States
CATEGORIES:Free Events,Calhoun County Events,Wheelchair Accessible,Food & Drink
END:VEVENT
BEGIN:VEVENT
DTSTART;TZID=America/New_York:20250627T100000
DTEND;TZID=America/New_York:20250627T110000
DTSTAMP:20260421T072844
CREATED:20250627T053301Z
LAST-MODIFIED:20250627T053301Z
UID:7115-1751018400-1751022000@myladd.laddinc.net
SUMMARY:Tibbits Volunteer Training 2024
DESCRIPTION:No tickets are needed for this event. You do not need to sign up for a session\, just come! \nIf you’ve ever wanted to volunteer at Tibbits during events\, now is your opportunity! Join The Audience Services Team to learn an entirely new area of volunteering during events or to brush up on your skills and our new procedures. From gift shop attendants to bartenders\, ushers to ticket scanners\, 50/50 raffle sellers to greeters\, we have many areas that we would love to use your skills at concerts\, community events\, films\, and of course\, summer theatre! You don’t have to attend both training sessions. All sessions take place at the theatre. \nStill need to be convinced? \nHere are the top 10 Benefits of Volunteering! \n• Provides you with a sense of purpose \n• Provides a sense of community \n• Helps you meet new friends \n• Increases your social skills \n• Improves self-esteem \n• Teaches you valuable skills \n• Provides job prospects \n• Brings fun into your life \n• Can help you be happier \n• Gets you out of your comfort zone
URL:https://myladd.laddinc.net/event/tibbits-volunteer-training-2024/
LOCATION:Tibbits Opera House\, 14 S Hanchett St\, Coldwater\, MI\, 49036\, United States
CATEGORIES:Free Events,Calhoun County Events
END:VEVENT
BEGIN:VEVENT
DTSTART;TZID=America/New_York:20250626T150000
DTEND;TZID=America/New_York:20250626T193000
DTSTAMP:20260421T072844
CREATED:20250627T053016Z
LAST-MODIFIED:20250627T053016Z
UID:7112-1750950000-1750966200@myladd.laddinc.net
SUMMARY:Music Bingo
DESCRIPTION:Come play Music Bingo at the Base Bar and Grill while enjoying $1 Wing Thursdays or just stop by for a pizza! Players can win a gift card to the Restaurant! \n 
URL:https://myladd.laddinc.net/event/music-bingo/
LOCATION:The Base Bar & Grill\, 3905 W Dickman Rd\, Springfield\, MI\, 49037\, United States
CATEGORIES:Free Events,Calhoun County Events,Wheelchair Accessible
END:VEVENT
END:VCALENDAR