BEGIN:VCALENDAR
VERSION:2.0
PRODID:-//LADD, Inc. - ECPv6.15.17.1//NONSGML v1.0//EN
CALSCALE:GREGORIAN
METHOD:PUBLISH
X-ORIGINAL-URL:https://myladd.laddinc.net
X-WR-CALDESC:Events for LADD, Inc.
REFRESH-INTERVAL;VALUE=DURATION:PT1H
X-Robots-Tag:noindex
X-PUBLISHED-TTL:PT1H
BEGIN:VTIMEZONE
TZID:America/New_York
BEGIN:DAYLIGHT
TZOFFSETFROM:-0500
TZOFFSETTO:-0400
TZNAME:EDT
DTSTART:20250309T070000
END:DAYLIGHT
BEGIN:STANDARD
TZOFFSETFROM:-0400
TZOFFSETTO:-0500
TZNAME:EST
DTSTART:20251102T060000
END:STANDARD
BEGIN:DAYLIGHT
TZOFFSETFROM:-0500
TZOFFSETTO:-0400
TZNAME:EDT
DTSTART:20260308T070000
END:DAYLIGHT
BEGIN:STANDARD
TZOFFSETFROM:-0400
TZOFFSETTO:-0500
TZNAME:EST
DTSTART:20261101T060000
END:STANDARD
BEGIN:DAYLIGHT
TZOFFSETFROM:-0500
TZOFFSETTO:-0400
TZNAME:EDT
DTSTART:20270314T070000
END:DAYLIGHT
BEGIN:STANDARD
TZOFFSETFROM:-0400
TZOFFSETTO:-0500
TZNAME:EST
DTSTART:20271107T060000
END:STANDARD
END:VTIMEZONE
BEGIN:VEVENT
DTSTART;VALUE=DATE:20260130
DTEND;VALUE=DATE:20260201
DTSTAMP:20260421T043145
CREATED:20260104T195838Z
LAST-MODIFIED:20260104T195838Z
UID:8627-1769731200-1769903999@myladd.laddinc.net
SUMMARY:Ice\, Wine\, Beer\, & Blues Featuring Albert Cummings
DESCRIPTION:Buy Tickets \nFeaturing a Friday night beer and wine tasting in downtown Marshall\, live ice sculpting\, and a Saturday night concert by blues guitar master Albert Cummings\, IWBB is a can’t-miss winter event! \nICE SCULPTURES 5-8 1/30 \nTASTING 6-9 1/30 \nCONCERT 1/31 8:00PM \nFriday evening join your friends in downtown Marshall to sample delicious beer and wine at 10 different business locations. Enjoy appetizers\, mingle with friends\, and watch live ice sculpting. Each tasting ticket entitles you to ten samples\, one at each location. You can purchase your tickets right here online\, then on the night of the event\, park downtown and proceed to Eastend Arts Center or Living MI to receive your wristband and begin your night. ID’s will be checked. Please bring your printed-at-home ticket with you. \nCollectible goblets will be available to purchase or pick up as well! \nSaturday evening’s concert will feature legendary blues man Albert Cummings. \nAlbert Cummings is a distinguished American blues guitarist\, singer\, and songwriter whose commanding guitar work and soulful voice have made him a standout figure in the contemporary blues scene. Born and raised in Massachusetts\, Cummings developed a passion for blues music at an early age\, drawing inspiration from legends like Stevie Ray Vaughan\, B.B. King\, and Jimi Hendrix. His dynamic playing style seamlessly blends elements of blues\, rock\, and a touch of Texas flair\, earning him recognition for his ability to deliver both raw energy and deep emotion through his music. \nDrawing inspiration from blues legends like Stevie Ray Vaughan and B.B. King\, Cummings blends traditional blues with a modern edge. His powerful performances and impressive technique have earned him a dedicated following of blues enthusiasts around the world.\nKnown for his fiery guitar solos and emotionally charged vocals\, Cummings has become a dynamic force in contemporary blues\, captivating listeners with his ability to connect deeply with his audience through both his music and his storytelling. \nCummings’ career began in the early 2000s\, and over the years\, he has earned a reputation for his electrifying live performances and impressive technical skill. His discography spans several albums\, including Feel So Good (2004)\, No Regrets (2006)\, and Someone Like You (2011)\, all of which showcase his mastery of the blues. His more recent releases\, TEN (2019) and Strong (2022)\, have marked significant milestones in his career\, with Strong reaching #1 on the Billboard Blues Chart\, solidifying his place as one of the genre’s top talents.\nWith his signature blend of heartfelt storytelling\, fiery guitar solos\, and undeniable passion\, Albert Cummings continues to captivate audiences around the world. He remains a vital force in modern blues\, carrying the torch for the legends who came before him while pushing the boundaries of the genre with each new album. \nPraise for Albert Cummings: \n“….a grand mix of the styles of past masters like Albert King\, Freddie King\, Stevie Ray Vaughan and Jimi Hendrix.” – Bluesprint Magazine
URL:https://myladd.laddinc.net/event/ice-wine-beer-blues-featuring-albert-cummings/
LOCATION:The Franke Center for the Arts\, 214 East Mansion Street\, Marshall\, MI\, 49068
CATEGORIES:Calhoun County Events,Music,Community Events,Outdoors & Nature
ATTACH;FMTTYPE=image/png:https://myladd.laddinc.net/wp-content/uploads/2026/01/image-5.png
END:VEVENT
END:VCALENDAR