BEGIN:VCALENDAR
VERSION:2.0
PRODID:-//LADD, Inc. - ECPv6.15.17.1//NONSGML v1.0//EN
CALSCALE:GREGORIAN
METHOD:PUBLISH
X-WR-CALNAME:LADD, Inc.
X-ORIGINAL-URL:https://myladd.laddinc.net
X-WR-CALDESC:Events for LADD, Inc.
REFRESH-INTERVAL;VALUE=DURATION:PT1H
X-Robots-Tag:noindex
X-PUBLISHED-TTL:PT1H
BEGIN:VTIMEZONE
TZID:America/New_York
BEGIN:DAYLIGHT
TZOFFSETFROM:-0500
TZOFFSETTO:-0400
TZNAME:EDT
DTSTART:20250309T070000
END:DAYLIGHT
BEGIN:STANDARD
TZOFFSETFROM:-0400
TZOFFSETTO:-0500
TZNAME:EST
DTSTART:20251102T060000
END:STANDARD
BEGIN:DAYLIGHT
TZOFFSETFROM:-0500
TZOFFSETTO:-0400
TZNAME:EDT
DTSTART:20260308T070000
END:DAYLIGHT
BEGIN:STANDARD
TZOFFSETFROM:-0400
TZOFFSETTO:-0500
TZNAME:EST
DTSTART:20261101T060000
END:STANDARD
BEGIN:DAYLIGHT
TZOFFSETFROM:-0500
TZOFFSETTO:-0400
TZNAME:EDT
DTSTART:20270314T070000
END:DAYLIGHT
BEGIN:STANDARD
TZOFFSETFROM:-0400
TZOFFSETTO:-0500
TZNAME:EST
DTSTART:20271107T060000
END:STANDARD
END:VTIMEZONE
BEGIN:VEVENT
DTSTART;TZID=America/New_York:20260127T180000
DTEND;TZID=America/New_York:20260127T200000
DTSTAMP:20260421T042930
CREATED:20260104T195455Z
LAST-MODIFIED:20260104T195513Z
UID:8623-1769536800-1769544000@myladd.laddinc.net
SUMMARY:Choose Marshall Annual Chamber Dinner & Awards
DESCRIPTION:https://square.link/u/NsrDICQ3 \nAll are welcome to join MAEDA/Choose Marshall at Schuler’s 19Zero9 Venue for a special evening celebrating the accomplishments of 2025 and to acknowledge those who have made significant contributions in 2025 to our community. \nChamber Member Payment \nNon-Chamber Member Payment \nReservations REQUIRED. Select member type above to purchase tickets or call 269.781.5163. All credit card purchases are subject to a 3% fee. To avoid this fee\, pay by cash or check. \nClick here for a printable form. \n$55 for Choose Marshall Chamber Members; $65 for Non-Members
URL:https://myladd.laddinc.net/event/choose-marshall-annual-chamber-dinner-awards/
LOCATION:Schuler’s Venue 19 Zero 9\, 112 N Eagle St\, Marshall\, MI\, 49068
CATEGORIES:Calhoun County Events,Food & Drink,Community Events
ATTACH;FMTTYPE=image/png:https://myladd.laddinc.net/wp-content/uploads/2026/01/Screenshot-2026-01-04-at-14.51.52.png
END:VEVENT
END:VCALENDAR