BEGIN:VCALENDAR
VERSION:2.0
PRODID:-//LADD, Inc. - ECPv6.15.17.1//NONSGML v1.0//EN
CALSCALE:GREGORIAN
METHOD:PUBLISH
X-WR-CALNAME:LADD, Inc.
X-ORIGINAL-URL:https://myladd.laddinc.net
X-WR-CALDESC:Events for LADD, Inc.
REFRESH-INTERVAL;VALUE=DURATION:PT1H
X-Robots-Tag:noindex
X-PUBLISHED-TTL:PT1H
BEGIN:VTIMEZONE
TZID:America/New_York
BEGIN:DAYLIGHT
TZOFFSETFROM:-0500
TZOFFSETTO:-0400
TZNAME:EDT
DTSTART:20250309T070000
END:DAYLIGHT
BEGIN:STANDARD
TZOFFSETFROM:-0400
TZOFFSETTO:-0500
TZNAME:EST
DTSTART:20251102T060000
END:STANDARD
BEGIN:DAYLIGHT
TZOFFSETFROM:-0500
TZOFFSETTO:-0400
TZNAME:EDT
DTSTART:20260308T070000
END:DAYLIGHT
BEGIN:STANDARD
TZOFFSETFROM:-0400
TZOFFSETTO:-0500
TZNAME:EST
DTSTART:20261101T060000
END:STANDARD
BEGIN:DAYLIGHT
TZOFFSETFROM:-0500
TZOFFSETTO:-0400
TZNAME:EDT
DTSTART:20270314T070000
END:DAYLIGHT
BEGIN:STANDARD
TZOFFSETFROM:-0400
TZOFFSETTO:-0500
TZNAME:EST
DTSTART:20271107T060000
END:STANDARD
END:VTIMEZONE
BEGIN:VEVENT
DTSTART;TZID=America/New_York:20260124T200000
DTEND;TZID=America/New_York:20260124T230000
DTSTAMP:20260421T055053
CREATED:20260104T195003Z
LAST-MODIFIED:20260104T195003Z
UID:8620-1769284800-1769295600@myladd.laddinc.net
SUMMARY:Main Street Dueling Pianos
DESCRIPTION:Buy Tickets \nMain Street Dueling Pianos performs an all-request show with a healthy dose of interactive comedy thrown in to entertain any audience. The entertainers have an impressive repertoire of 1\,000+ songs and can cater to virtually any age group. Get ready for an unforgettable experience that is sure to have your audience singing\, clapping and dancing the night away! \nMain Street Dueling Pianos travels all over the Midwest including Michigan\, Ohio\, Indiana\, Illinois\, Wisconsin\, Iowa\, Kentucky\, Pennsylvania\, and West Virginia.
URL:https://myladd.laddinc.net/event/main-street-dueling-pianos/
LOCATION:The Franke Center for the Arts\, 214 East Mansion Street\, Marshall\, MI\, 49068
CATEGORIES:Calhoun County Events,Music
ATTACH;FMTTYPE=image/png:https://myladd.laddinc.net/wp-content/uploads/2026/01/image-4.png
END:VEVENT
END:VCALENDAR