BEGIN:VCALENDAR
VERSION:2.0
PRODID:-//LADD, Inc. - ECPv6.15.17.1//NONSGML v1.0//EN
CALSCALE:GREGORIAN
METHOD:PUBLISH
X-WR-CALNAME:LADD, Inc.
X-ORIGINAL-URL:https://myladd.laddinc.net
X-WR-CALDESC:Events for LADD, Inc.
REFRESH-INTERVAL;VALUE=DURATION:PT1H
X-Robots-Tag:noindex
X-PUBLISHED-TTL:PT1H
BEGIN:VTIMEZONE
TZID:America/New_York
BEGIN:DAYLIGHT
TZOFFSETFROM:-0500
TZOFFSETTO:-0400
TZNAME:EDT
DTSTART:20250309T070000
END:DAYLIGHT
BEGIN:STANDARD
TZOFFSETFROM:-0400
TZOFFSETTO:-0500
TZNAME:EST
DTSTART:20251102T060000
END:STANDARD
BEGIN:DAYLIGHT
TZOFFSETFROM:-0500
TZOFFSETTO:-0400
TZNAME:EDT
DTSTART:20260308T070000
END:DAYLIGHT
BEGIN:STANDARD
TZOFFSETFROM:-0400
TZOFFSETTO:-0500
TZNAME:EST
DTSTART:20261101T060000
END:STANDARD
BEGIN:DAYLIGHT
TZOFFSETFROM:-0500
TZOFFSETTO:-0400
TZNAME:EDT
DTSTART:20270314T070000
END:DAYLIGHT
BEGIN:STANDARD
TZOFFSETFROM:-0400
TZOFFSETTO:-0500
TZNAME:EST
DTSTART:20271107T060000
END:STANDARD
END:VTIMEZONE
BEGIN:VEVENT
DTSTART;TZID=America/New_York:20260117T180000
DTEND;TZID=America/New_York:20260117T220000
DTSTAMP:20260421T054952
CREATED:20260104T194755Z
LAST-MODIFIED:20260104T194755Z
UID:8616-1768672800-1768687200@myladd.laddinc.net
SUMMARY:Eastend's Ice Ball
DESCRIPTION:Buy Tickets \nJoin us for a sparkling night of winter elegance\, cocktails\, and dancing as we celebrate the launch of Eastend Arts Center’s new name! \n? Saturday\, January 17\, 2026 \n? Wagner Ballroom\, Eastend Arts Center – 143 W. Michigan Ave\, Marshall\, MI \n? Tickets: \nVIP Dinner Experience (6:00–7:30 PM): $75 per person — includes upscale dinner\, wine pairings\, mixology demo\, and all general admission benefits. Limited seating for 60 guests. \nGeneral Admission (doors open 7:30 PM): $35 per person — includes one complimentary drink ticket\, live music\, and dancing. \n? Entertainment by Father Stone at 8:00 PM — a high‑energy band delivering classic and modern rock that keeps audiences on their feet. \n✨ Dress to impress and enjoy ice‑themed décor\, perfect for photos and celebrating the new year with friends. \n? Tickets available now at eastendart.org
URL:https://myladd.laddinc.net/event/eastends-ice-ball/
LOCATION:Wagner Ballroom\, 143 W Michigan Ave\, Marshall\, MI\, 49068
CATEGORIES:Calhoun County Events,Community Events
ATTACH;FMTTYPE=image/png:https://myladd.laddinc.net/wp-content/uploads/2026/01/image-3.png
END:VEVENT
END:VCALENDAR