BEGIN:VCALENDAR
VERSION:2.0
PRODID:-//LADD, Inc. - ECPv6.15.17.1//NONSGML v1.0//EN
CALSCALE:GREGORIAN
METHOD:PUBLISH
X-WR-CALNAME:LADD, Inc.
X-ORIGINAL-URL:https://myladd.laddinc.net
X-WR-CALDESC:Events for LADD, Inc.
REFRESH-INTERVAL;VALUE=DURATION:PT1H
X-Robots-Tag:noindex
X-PUBLISHED-TTL:PT1H
BEGIN:VTIMEZONE
TZID:America/New_York
BEGIN:DAYLIGHT
TZOFFSETFROM:-0500
TZOFFSETTO:-0400
TZNAME:EDT
DTSTART:20250309T070000
END:DAYLIGHT
BEGIN:STANDARD
TZOFFSETFROM:-0400
TZOFFSETTO:-0500
TZNAME:EST
DTSTART:20251102T060000
END:STANDARD
BEGIN:DAYLIGHT
TZOFFSETFROM:-0500
TZOFFSETTO:-0400
TZNAME:EDT
DTSTART:20260308T070000
END:DAYLIGHT
BEGIN:STANDARD
TZOFFSETFROM:-0400
TZOFFSETTO:-0500
TZNAME:EST
DTSTART:20261101T060000
END:STANDARD
BEGIN:DAYLIGHT
TZOFFSETFROM:-0500
TZOFFSETTO:-0400
TZNAME:EDT
DTSTART:20270314T070000
END:DAYLIGHT
BEGIN:STANDARD
TZOFFSETFROM:-0400
TZOFFSETTO:-0500
TZNAME:EST
DTSTART:20271107T060000
END:STANDARD
END:VTIMEZONE
BEGIN:VEVENT
DTSTART;TZID=America/New_York:20260116T200000
DTEND;TZID=America/New_York:20260116T230000
DTSTAMP:20260421T055053
CREATED:20260104T194450Z
LAST-MODIFIED:20260104T194450Z
UID:8613-1768593600-1768604400@myladd.laddinc.net
SUMMARY:Ember & Ash
DESCRIPTION:Buy Tickets \nEmber & Ash\, the duo forged by Erin Zindle and Alex Holycross\, is as captivating and dangerous as a spark on the wind in a dry forest. Armed with fiddle and guitar\, these two Michigan songwriters have had long careers\, both defying genre boundaries in their own respective bands (The Native Howl’s “Thrash Grass” and The Ragbirds’ edgy global folk-rock) \nAlex & Erin’s voices curl together like smoky ribbons floating above the slow-burn of guitar and ever-kindling fiddle. Their live performances carry a wild\, elemental energy as the duo seem to come more alive with each note\, stoking a heat that threatens to burn the whole place down. \nEmber & Ash is a rare collaboration that knows the patience of the long burn\, yet still flickers with the restless energy of new creation. The music is gritty and raw\, like a photo album salvaged from a house fire\, the singed edges of each song frame stories of loss and wisdom – the remnants of what’s left after the flames have had their say. They sing the story of the unquenchable\, unkillable nature within us\, fearlessly bare\, as only survivors can be.
URL:https://myladd.laddinc.net/event/ember-ash/
LOCATION:The Franke Center for the Arts – Downstage\, 214 E Mansion St\, Marshall\, MI\, 49068
CATEGORIES:Calhoun County Events,Music
ATTACH;FMTTYPE=image/png:https://myladd.laddinc.net/wp-content/uploads/2026/01/image-2.png
END:VEVENT
END:VCALENDAR