BEGIN:VCALENDAR
VERSION:2.0
PRODID:-//LADD, Inc. - ECPv6.15.17.1//NONSGML v1.0//EN
CALSCALE:GREGORIAN
METHOD:PUBLISH
X-WR-CALNAME:LADD, Inc.
X-ORIGINAL-URL:https://myladd.laddinc.net
X-WR-CALDESC:Events for LADD, Inc.
REFRESH-INTERVAL;VALUE=DURATION:PT1H
X-Robots-Tag:noindex
X-PUBLISHED-TTL:PT1H
BEGIN:VTIMEZONE
TZID:America/New_York
BEGIN:DAYLIGHT
TZOFFSETFROM:-0500
TZOFFSETTO:-0400
TZNAME:EDT
DTSTART:20240310T070000
END:DAYLIGHT
BEGIN:STANDARD
TZOFFSETFROM:-0400
TZOFFSETTO:-0500
TZNAME:EST
DTSTART:20241103T060000
END:STANDARD
BEGIN:DAYLIGHT
TZOFFSETFROM:-0500
TZOFFSETTO:-0400
TZNAME:EDT
DTSTART:20250309T070000
END:DAYLIGHT
BEGIN:STANDARD
TZOFFSETFROM:-0400
TZOFFSETTO:-0500
TZNAME:EST
DTSTART:20251102T060000
END:STANDARD
BEGIN:DAYLIGHT
TZOFFSETFROM:-0500
TZOFFSETTO:-0400
TZNAME:EDT
DTSTART:20260308T070000
END:DAYLIGHT
BEGIN:STANDARD
TZOFFSETFROM:-0400
TZOFFSETTO:-0500
TZNAME:EST
DTSTART:20261101T060000
END:STANDARD
END:VTIMEZONE
BEGIN:VEVENT
DTSTART;TZID=America/New_York:20251220T180000
DTEND;TZID=America/New_York:20251220T210000
DTSTAMP:20260421T073643
CREATED:20251205T010526Z
LAST-MODIFIED:20251205T010526Z
UID:7896-1766253600-1766264400@myladd.laddinc.net
SUMMARY:Merry Mile
DESCRIPTION:The first day of December means Marshall gets merry with a mile of light displays at the fairgrounds. It’ll be open Thursday through Sunday for all of December (not including Christmas day). There will be special events throughout the month\, including visits from Santa\, crafts and a live nativity. Admission is $10 per car or $20 for vehicles with 9-15 passengers.   \n\n\n\n2025 SCHEDULE\nDates: December 4-28\, 2025 \nDays: Thursdays-Sundays \n(excluding Christmas) \nTime: 6:00-9:00 pm \n\n\n\n\n\n\nLOCATION DETAILS\nLocation: Calhoun County Fairgrounds\n720 Fair Street\, Marshall\, MI \nPhone: 269-781-8161 \nEmail: ccaisoffice@gmail.com \n\n\n\n\n\n\nPRICING INFORMATION\nVehicle up to 8 passengers : $10.00 \nVehicle carrying 9-15 passengers: $20.00 \nTrolley: $40.00 \nAny vehicle carrying more than 16 passengers: please contact the office for pricing and to confirm if we are able to accommodate. \nPayment Accepted : We accept Cash and Card at our Ticket Booth During Merry Mile Hours. \nPlease note there is a processing fee if paying by card.
URL:https://myladd.laddinc.net/event/merry-mile-11/
LOCATION:Calhoun County Fairgrounds\, 720 Fair Street\, Marshall\, MI\, 49068\, United States
CATEGORIES:Calhoun County Events,Community Events,Outdoors & Nature
ATTACH;FMTTYPE=image/jpeg:https://myladd.laddinc.net/wp-content/uploads/2025/12/image-3.jpeg
ORGANIZER;CN="Calhoun County Fairgrounds":MAILTO:ccaisoffice@gmail.com
END:VEVENT
END:VCALENDAR