BEGIN:VCALENDAR
VERSION:2.0
PRODID:-//LADD, Inc. - ECPv6.15.17.1//NONSGML v1.0//EN
CALSCALE:GREGORIAN
METHOD:PUBLISH
X-ORIGINAL-URL:https://myladd.laddinc.net
X-WR-CALDESC:Events for LADD, Inc.
REFRESH-INTERVAL;VALUE=DURATION:PT1H
X-Robots-Tag:noindex
X-PUBLISHED-TTL:PT1H
BEGIN:VTIMEZONE
TZID:America/New_York
BEGIN:DAYLIGHT
TZOFFSETFROM:-0500
TZOFFSETTO:-0400
TZNAME:EDT
DTSTART:20240310T070000
END:DAYLIGHT
BEGIN:STANDARD
TZOFFSETFROM:-0400
TZOFFSETTO:-0500
TZNAME:EST
DTSTART:20241103T060000
END:STANDARD
BEGIN:DAYLIGHT
TZOFFSETFROM:-0500
TZOFFSETTO:-0400
TZNAME:EDT
DTSTART:20250309T070000
END:DAYLIGHT
BEGIN:STANDARD
TZOFFSETFROM:-0400
TZOFFSETTO:-0500
TZNAME:EST
DTSTART:20251102T060000
END:STANDARD
BEGIN:DAYLIGHT
TZOFFSETFROM:-0500
TZOFFSETTO:-0400
TZNAME:EDT
DTSTART:20260308T070000
END:DAYLIGHT
BEGIN:STANDARD
TZOFFSETFROM:-0400
TZOFFSETTO:-0500
TZNAME:EST
DTSTART:20261101T060000
END:STANDARD
END:VTIMEZONE
BEGIN:VEVENT
DTSTART;TZID=America/New_York:20251213T090000
DTEND;TZID=America/New_York:20251213T150000
DTSTAMP:20260421T085823
CREATED:20251205T174503Z
LAST-MODIFIED:20251205T174504Z
UID:7958-1765616400-1765638000@myladd.laddinc.net
SUMMARY:Candy Cane Lane Craft Fair
DESCRIPTION:We’re bringing the holiday magic in a BIG way — with more space for vendors\, new raffle ideas\, giveaways\, and concessions available throughout the event…and as always\, it’s a free event!\nWhether you’re a local artisan\, crafter\, or just love all things Christmas\, this will be the can’t-miss event of the holiday season.\nWe’re still finalizing some exciting details\, and vendor registration info will be available in the next few weeks — stay tuned!
URL:https://myladd.laddinc.net/event/candy-cane-lane-craft-fair/
LOCATION:Lakeview High School\, 15060 Helmer Rd S\, Battle Creek\, MI\, 49015
CATEGORIES:Free Events,Calhoun County Events,Community Events
ATTACH;FMTTYPE=image/jpeg:https://myladd.laddinc.net/wp-content/uploads/2025/12/image-10.jpeg
END:VEVENT
BEGIN:VEVENT
DTSTART;TZID=America/New_York:20251213T110000
DTEND;TZID=America/New_York:20251213T130000
DTSTAMP:20260421T085823
CREATED:20251115T004915Z
LAST-MODIFIED:20251115T004915Z
UID:7744-1765623600-1765630800@myladd.laddinc.net
SUMMARY:Mommy & Me Christmas Cookie Class
DESCRIPTION:Mommy and Me Cookie Class \nCall SOON or visit our website to make reservations. Seats are limited and go quick!\n269-781-4293\nwww.turkeyville.com\nSaturday\, December 13\, 2025\n11:00 am – 1:00 pm & the next class 2:00-3:00 pm\n$25 Adult $20 Kids \nMommy and Me Cookie Class \nCall SOON or visit our website to make reservations. Seats are limited and go quick!\n269-781-4293\nwww.turkeyville.com\nSaturday\, December 13\, 2025\n11:00 am – 1:00 pm & the next class 2:00-3:00 pm\n$25 Adult $20 Kids
URL:https://myladd.laddinc.net/event/mommy-me-christmas-cookie-class/
LOCATION:Cornwell’s Turkeyville\, 18935 15 1/2 Mile Road\, Marshall\, MI\, 49068
CATEGORIES:Calhoun County Events,Food & Drink,Community Events,Workshops & Classes
ATTACH;FMTTYPE=image/png:https://myladd.laddinc.net/wp-content/uploads/2025/11/image-23.png
END:VEVENT
BEGIN:VEVENT
DTSTART;TZID=America/New_York:20251213T180000
DTEND;TZID=America/New_York:20251213T210000
DTSTAMP:20260421T085823
CREATED:20251205T010103Z
LAST-MODIFIED:20251205T010103Z
UID:7888-1765648800-1765659600@myladd.laddinc.net
SUMMARY:Merry Mile
DESCRIPTION:The first day of December means Marshall gets merry with a mile of light displays at the fairgrounds. It’ll be open Thursday through Sunday for all of December (not including Christmas day). There will be special events throughout the month\, including visits from Santa\, crafts and a live nativity. Admission is $10 per car or $20 for vehicles with 9-15 passengers.   \n\n\n\n2025 SCHEDULE\nDates: December 4-28\, 2025 \nDays: Thursdays-Sundays \n(excluding Christmas) \nTime: 6:00-9:00 pm \n\n\n\n\n\n\nLOCATION DETAILS\nLocation: Calhoun County Fairgrounds\n720 Fair Street\, Marshall\, MI \nPhone: 269-781-8161 \nEmail: ccaisoffice@gmail.com \n\n\n\n\n\n\nPRICING INFORMATION\nVehicle up to 8 passengers : $10.00 \nVehicle carrying 9-15 passengers: $20.00 \nTrolley: $40.00 \nAny vehicle carrying more than 16 passengers: please contact the office for pricing and to confirm if we are able to accommodate. \nPayment Accepted : We accept Cash and Card at our Ticket Booth During Merry Mile Hours. \nPlease note there is a processing fee if paying by card.
URL:https://myladd.laddinc.net/event/merry-mile-7/
LOCATION:Calhoun County Fairgrounds\, 720 Fair Street\, Marshall\, MI\, 49068\, United States
CATEGORIES:Calhoun County Events,Community Events,Outdoors & Nature
ATTACH;FMTTYPE=image/jpeg:https://myladd.laddinc.net/wp-content/uploads/2025/12/image-3.jpeg
ORGANIZER;CN="Calhoun County Fairgrounds":MAILTO:ccaisoffice@gmail.com
END:VEVENT
BEGIN:VEVENT
DTSTART;TZID=America/New_York:20251213T180000
DTEND;TZID=America/New_York:20251213T210000
DTSTAMP:20260421T085823
CREATED:20251205T051144Z
LAST-MODIFIED:20251205T051709Z
UID:7950-1765648800-1765659600@myladd.laddinc.net
SUMMARY:Special Event: Live Nativity
DESCRIPTION:There will be scenes from the Christmas Story portrayed through the one-mile drive through lights display at the Calhoun County Fairgrounds. You can take it all in from the comfort of your warm car while you listen to the Christmas story if you choose to tune into the radio station listening option. \n\nLocation: Floral Hall
URL:https://myladd.laddinc.net/event/special-event-live-nativity/
LOCATION:Calhoun County Fairgrounds\, 720 Fair Street\, Marshall\, MI\, 49068\, United States
CATEGORIES:Calhoun County Events,Music,Community Events,Outdoors & Nature
ATTACH;FMTTYPE=image/jpeg:https://myladd.laddinc.net/wp-content/uploads/2025/12/image-8.jpeg
END:VEVENT
BEGIN:VEVENT
DTSTART;TZID=America/New_York:20251213T193000
DTEND;TZID=America/New_York:20251213T210000
DTSTAMP:20260421T085823
CREATED:20251205T053757Z
LAST-MODIFIED:20251205T053757Z
UID:7955-1765654200-1765659600@myladd.laddinc.net
SUMMARY:The Battle Creek Symphony Presents: Home for the Holidays
DESCRIPTION:Embrace the holiday spirit with a dazzling performance! Enjoy local vocalists\, a 100-piece choir\, the Shari Rarick Dancers\, and special guest\, Brandon Fitzpatrick on piano as they join the orchestra to deliver a heartwarming blend of holiday standards and classical compositions.
URL:https://myladd.laddinc.net/event/the-battle-creek-symphony-presents-home-for-the-holidays/
LOCATION:W.K. Kellogg Auditorium\, 50 West Van Buren Street\, Battle Creek\, MI\, 49017
CATEGORIES:Calhoun County Events,Music
ATTACH;FMTTYPE=image/jpeg:https://myladd.laddinc.net/wp-content/uploads/2025/12/image-9.jpeg
END:VEVENT
END:VCALENDAR