BEGIN:VCALENDAR
VERSION:2.0
PRODID:-//LADD, Inc. - ECPv6.15.17.1//NONSGML v1.0//EN
CALSCALE:GREGORIAN
METHOD:PUBLISH
X-ORIGINAL-URL:https://myladd.laddinc.net
X-WR-CALDESC:Events for LADD, Inc.
REFRESH-INTERVAL;VALUE=DURATION:PT1H
X-Robots-Tag:noindex
X-PUBLISHED-TTL:PT1H
BEGIN:VTIMEZONE
TZID:America/New_York
BEGIN:DAYLIGHT
TZOFFSETFROM:-0500
TZOFFSETTO:-0400
TZNAME:EDT
DTSTART:20240310T070000
END:DAYLIGHT
BEGIN:STANDARD
TZOFFSETFROM:-0400
TZOFFSETTO:-0500
TZNAME:EST
DTSTART:20241103T060000
END:STANDARD
BEGIN:DAYLIGHT
TZOFFSETFROM:-0500
TZOFFSETTO:-0400
TZNAME:EDT
DTSTART:20250309T070000
END:DAYLIGHT
BEGIN:STANDARD
TZOFFSETFROM:-0400
TZOFFSETTO:-0500
TZNAME:EST
DTSTART:20251102T060000
END:STANDARD
BEGIN:DAYLIGHT
TZOFFSETFROM:-0500
TZOFFSETTO:-0400
TZNAME:EDT
DTSTART:20260308T070000
END:DAYLIGHT
BEGIN:STANDARD
TZOFFSETFROM:-0400
TZOFFSETTO:-0500
TZNAME:EST
DTSTART:20261101T060000
END:STANDARD
END:VTIMEZONE
BEGIN:VEVENT
DTSTART;TZID=America/New_York:20251212T170000
DTEND;TZID=America/New_York:20251212T190000
DTSTAMP:20260421T073105
CREATED:20251115T003718Z
LAST-MODIFIED:20251115T003718Z
UID:7731-1765558800-1765566000@myladd.laddinc.net
SUMMARY:Santa Visit At Urban Reflection Lifestyle
DESCRIPTION:Santa will be at Urban Reflections Lifestyle on 12/12 from 5:00-7:00
URL:https://myladd.laddinc.net/event/santa-visit-at-urban-reflection-lifestyle/
LOCATION:Urban Reflections Lifestyle\, 131 West Michigan Ave.\, Marshall\, MI\, 49068
CATEGORIES:Free Events,Calhoun County Events,Wheelchair Accessible,Community Events
ATTACH;FMTTYPE=image/png:https://myladd.laddinc.net/wp-content/uploads/2025/11/image-20.png
END:VEVENT
BEGIN:VEVENT
DTSTART;TZID=America/New_York:20251212T173000
DTEND;TZID=America/New_York:20251212T193000
DTSTAMP:20260421T073105
CREATED:20251115T004022Z
LAST-MODIFIED:20251115T004022Z
UID:7735-1765560600-1765567800@myladd.laddinc.net
SUMMARY:Christmas Cookies and Wine
DESCRIPTION:Join us for a fun night of decorating handmade sugar cookies with royal icing while enjoying a glass of wine or adult beverage of your choice. You will leave with 12 finished cookies.
URL:https://myladd.laddinc.net/event/christmas-cookies-and-wine/
LOCATION:Cornwell’s Turkeyville\, 18935 15 1/2 Mile Road\, Marshall\, MI\, 49068
CATEGORIES:Calhoun County Events,Food & Drink,Community Events,Workshops & Classes
ATTACH;FMTTYPE=image/png:https://myladd.laddinc.net/wp-content/uploads/2025/11/image-21.png
END:VEVENT
BEGIN:VEVENT
DTSTART;TZID=America/New_York:20251212T180000
DTEND;TZID=America/New_York:20251212T210000
DTSTAMP:20260421T073105
CREATED:20251205T010012Z
LAST-MODIFIED:20251205T010012Z
UID:7886-1765562400-1765573200@myladd.laddinc.net
SUMMARY:Merry Mile
DESCRIPTION:The first day of December means Marshall gets merry with a mile of light displays at the fairgrounds. It’ll be open Thursday through Sunday for all of December (not including Christmas day). There will be special events throughout the month\, including visits from Santa\, crafts and a live nativity. Admission is $10 per car or $20 for vehicles with 9-15 passengers.   \n\n\n\n2025 SCHEDULE\nDates: December 4-28\, 2025 \nDays: Thursdays-Sundays \n(excluding Christmas) \nTime: 6:00-9:00 pm \n\n\n\n\n\n\nLOCATION DETAILS\nLocation: Calhoun County Fairgrounds\n720 Fair Street\, Marshall\, MI \nPhone: 269-781-8161 \nEmail: ccaisoffice@gmail.com \n\n\n\n\n\n\nPRICING INFORMATION\nVehicle up to 8 passengers : $10.00 \nVehicle carrying 9-15 passengers: $20.00 \nTrolley: $40.00 \nAny vehicle carrying more than 16 passengers: please contact the office for pricing and to confirm if we are able to accommodate. \nPayment Accepted : We accept Cash and Card at our Ticket Booth During Merry Mile Hours. \nPlease note there is a processing fee if paying by card.
URL:https://myladd.laddinc.net/event/merry-mile-6/
LOCATION:Calhoun County Fairgrounds\, 720 Fair Street\, Marshall\, MI\, 49068\, United States
CATEGORIES:Calhoun County Events,Community Events,Outdoors & Nature
ATTACH;FMTTYPE=image/jpeg:https://myladd.laddinc.net/wp-content/uploads/2025/12/image-3.jpeg
ORGANIZER;CN="Calhoun County Fairgrounds":MAILTO:ccaisoffice@gmail.com
END:VEVENT
BEGIN:VEVENT
DTSTART;TZID=America/New_York:20251212T200000
DTEND;TZID=America/New_York:20251212T220000
DTSTAMP:20260421T073105
CREATED:20251205T050234Z
LAST-MODIFIED:20251205T050234Z
UID:7946-1765569600-1765576800@myladd.laddinc.net
SUMMARY:Jason Michael Carroll: A Country Christmas
DESCRIPTION:Join country music star Jason Michael Carroll for an evening of original country tunes and Christmas classics! \nBuy Tickets                  \n\n\n\n\n\nFri\, Dec 12\n\nJason Michael Carroll\nA country Christmas\n\n\n\n\n\n\n\n\n\n\n\n\nJoin country music star Jason Michael Carroll for an evening of original country tunes and Christmas classics! \nFor Jason Michael Carroll\, change is an ever-present part of life. Born in Houston\, Texas\, and raised in Youngsville\, North Carolina\, Carroll has been adapting to the evolving country music landscape for nearly two decades—with no signs of slowing down. \nBreaking out with success in 2006 thanks to the heart-wrenching ballad “Alyssa Lies\,” Carroll quickly followed that first chart-topping hit with a flurry of songs that cemented his voice and name among Nashville’s elite performers. Hits such as “Livin’ Our Love Song\,” “I Can Sleep When I’m Dead\,” “Where I’m From\,” and many others fueled a string of successful albums and sold-out live shows. Paired with his intense connection to fans\, it’s no wonder Nashville hails Jason as a triple-threat artist: Singer. Songwriter. Entertainer. \nBlazing across clubs\, fair stages\, and festivals\, Carroll continues to connect with fans who’ve stood by him throughout his career. As he explains\, “Everything I do is focused on the fans who never once slowed up. Every song\, every show\, and every new chapter I dedicate to them. I’m so excited for them to hear what’s next!” \nWith new music\, a fresh band\, and a driven attitude\, Jason Michael Carroll is poised for even greater success. His highly anticipated 5th studio album is slated for release in 2025. With reinvigorated momentum and energy\, one thing remains clear—never underestimate the Marine from Youngsville\, NC.
URL:https://myladd.laddinc.net/event/jason-michael-carroll-a-country-christmas-2/
LOCATION:The Franke Center for the Arts\, 214 East Mansion Street\, Marshall\, MI\, 49068
CATEGORIES:Calhoun County Events,Music
ATTACH;FMTTYPE=image/png:https://myladd.laddinc.net/wp-content/uploads/2025/12/image-8.png
END:VEVENT
BEGIN:VEVENT
DTSTART;TZID=America/New_York:20251212T200000
DTEND;TZID=America/New_York:20251212T230000
DTSTAMP:20260421T073105
CREATED:20251115T004607Z
LAST-MODIFIED:20251115T004607Z
UID:7741-1765569600-1765580400@myladd.laddinc.net
SUMMARY:Jason Michael Carroll A Country Christmas
DESCRIPTION:Buy Tickets \nJoin country music star Jason Michael Carroll for an evening of original country tunes and Christmas classics! \nFor Jason Michael Carroll\, change is an ever-present part of life. Born in Houston\, Texas\, and raised in Youngsville\, North Carolina\, Carroll has been adapting to the evolving country music landscape for nearly two decades—with no signs of slowing down. \nBreaking out with success in 2006 thanks to the heart-wrenching ballad “Alyssa Lies\,” Carroll quickly followed that first chart-topping hit with a flurry of songs that cemented his voice and name among Nashville’s elite performers. Hits such as “Livin’ Our Love Song\,” “I Can Sleep When I’m Dead\,” “Where I’m From\,” and many others fueled a string of successful albums and sold-out live shows. Paired with his intense connection to fans\, it’s no wonder Nashville hails Jason as a triple-threat artist: Singer. Songwriter. Entertainer. \nBlazing across clubs\, fair stages\, and festivals\, Carroll continues to connect with fans who’ve stood by him throughout his career. As he explains\, “Everything I do is focused on the fans who never once slowed up. Every song\, every show\, and every new chapter I dedicate to them. I’m so excited for them to hear what’s next!” \nWith new music\, a fresh band\, and a driven attitude\, Jason Michael Carroll is poised for even greater success. His highly anticipated 5th studio album is slated for release in 2025. With reinvigorated momentum and energy\, one thing remains clear—never underestimate the Marine from Youngsville\, NC.
URL:https://myladd.laddinc.net/event/jason-michael-carroll-a-country-christmas/
LOCATION:The Franke Center for the Arts\, 214 East Mansion Street\, Marshall\, MI\, 49068
CATEGORIES:Calhoun County Events,Wheelchair Accessible,Music,Community Events
ATTACH;FMTTYPE=image/png:https://myladd.laddinc.net/wp-content/uploads/2025/11/image-22.png
END:VEVENT
END:VCALENDAR