BEGIN:VCALENDAR
VERSION:2.0
PRODID:-//LADD, Inc. - ECPv6.15.17.1//NONSGML v1.0//EN
CALSCALE:GREGORIAN
METHOD:PUBLISH
X-ORIGINAL-URL:https://myladd.laddinc.net
X-WR-CALDESC:Events for LADD, Inc.
REFRESH-INTERVAL;VALUE=DURATION:PT1H
X-Robots-Tag:noindex
X-PUBLISHED-TTL:PT1H
BEGIN:VTIMEZONE
TZID:America/New_York
BEGIN:DAYLIGHT
TZOFFSETFROM:-0500
TZOFFSETTO:-0400
TZNAME:EDT
DTSTART:20240310T070000
END:DAYLIGHT
BEGIN:STANDARD
TZOFFSETFROM:-0400
TZOFFSETTO:-0500
TZNAME:EST
DTSTART:20241103T060000
END:STANDARD
BEGIN:DAYLIGHT
TZOFFSETFROM:-0500
TZOFFSETTO:-0400
TZNAME:EDT
DTSTART:20250309T070000
END:DAYLIGHT
BEGIN:STANDARD
TZOFFSETFROM:-0400
TZOFFSETTO:-0500
TZNAME:EST
DTSTART:20251102T060000
END:STANDARD
BEGIN:DAYLIGHT
TZOFFSETFROM:-0500
TZOFFSETTO:-0400
TZNAME:EDT
DTSTART:20260308T070000
END:DAYLIGHT
BEGIN:STANDARD
TZOFFSETFROM:-0400
TZOFFSETTO:-0500
TZNAME:EST
DTSTART:20261101T060000
END:STANDARD
END:VTIMEZONE
BEGIN:VEVENT
DTSTART;TZID=America/New_York:20251206T140000
DTEND;TZID=America/New_York:20251206T200000
DTSTAMP:20260421T085725
CREATED:20251205T011813Z
LAST-MODIFIED:20251205T011813Z
UID:7910-1765029600-1765051200@myladd.laddinc.net
SUMMARY:Winter Wanderland
DESCRIPTION:Winter Wanderland returns to Downtown Battle Creek! \nWinter Wanderland is a collection of holiday events happening in and around Battle Creek. Join in celebrating this magical time of year and wander all around our beautiful city to get into the holiday spirit. Special events happening December 6\, 2025 from 2-8pm. \nEvent Highlights: \nHOLIDAY MARKET\nDoubleTree by Hilton Atrium\nSaturday\, December 6: 2-8 pm \nArtisans and Makers: Browse handmade crafts by local vendors. Vendor spaces are full. \nEvent activities include: \n\nSanta Meet & Greet\nThe Grinch Meet & Greet\nCookie Decorating\nChiropractic adjustments & massages\n\n HORSE DRAWN WAGON RIDES\n\n\nFestival Market Square\nSaturday\, December 6: 3-8 pm \nDash through the snow in a one horse open sleigh around downtown Battle Creek. Rides are free of charge. Wagon rides will ONLY operate out of Festival Market Square. Click here to see the wagon ride route. \nRides will be available from 5-8 pm. Wagons can hold 12-14 people and will be running continuously every 25 minutes. Horse drawn wagon rides provided by Twinn Pines Carriages. \nALL WAGON RIDES ARE FIRST COME FIRST SERVE. BE SURE TO GET THERE EARLY TO SECURE YOUR BOARDING PASS TICKET.  \n\n\n\n\n\n MINI POLAR EXPRESS TRAIN RIDES\nFestival Market Square\nSaturday\, December 6: 2-8 pm \nAll aboard! Enjoy a free magical ride around holiday themed track in Festival Market Square! \nWinter Wanderland events are FREE for all ages! \nBring your holiday spirit and join us for a memorable celebration at Battle Creek Winter Wanderland!
URL:https://myladd.laddinc.net/event/winter-wanderland/
LOCATION:Kellogg Arena\, One McCamly Square\, Battle Creek\, MI\, 49017
CATEGORIES:Free Events,Calhoun County Events,Food & Drink,Community Events,Outdoors & Nature
ATTACH;FMTTYPE=image/png:https://myladd.laddinc.net/wp-content/uploads/2025/12/image-6.png
END:VEVENT
BEGIN:VEVENT
DTSTART;TZID=America/New_York:20251206T150000
DTEND;TZID=America/New_York:20251206T170000
DTSTAMP:20260421T085725
CREATED:20251205T020713Z
LAST-MODIFIED:20251205T020713Z
UID:7920-1765033200-1765040400@myladd.laddinc.net
SUMMARY:The Winter Of Winter
DESCRIPTION:  \nThe Wizards of Winter was born from the vision of two musicians\, the husband and wife team of Scott (Composer\, Keyboardist) and Sharon-Joy (Lead Vocals/Flute) Kelly. Originating in 2010 with a heartfelt mission to support their local community food pantry\, the band evolved into a captivating musical force traversing the nation annually. Delighting audiences spanning generations\, from 8 to 80\, their Christmas Holiday Rock opera has become a cherished family tradition for many. \nGet ready for a spellbinding holiday extravaganza as The Wizards of Winter bring their spectacular holiday rock opera sound to Michigan! \n  \nThe Wizards of Winter features world renowned talent that have performed with Trans-Siberian Orchestra\, Def Leppard\, Blue Oyster Cult\, Rainbow\, and other giants of classic rock! These musicians blend with Broadway veterans to deliver a powerful performance of their masterful holiday rock opera\, The Christmas Dream. \n  \nJoin The Wizards of Winter as they take you on a musical journey in search of the meaning of Christmas. From symphonic rock and pop to powerful ballads\, with snowballs\, beach balls\, and even a visit from Mrs. Claus\, you can’t miss this high-energy\, family-friendly production that has captivated audiences of all ages! \nThe Wizards of Winter was born from the vision of two musicians\, the husband and wife team of Scott (Composer\, Keyboardist) and Sharon-Joy (Lead Vocals/Flute) Kelly. Originating in 2010 with a heartfelt mission to support their local community food pantry\, the band evolved into a captivating musical force traversing the nation annually. Delighting audiences spanning generations\, from 8 to 80\, their Christmas Holiday Rock opera has become a cherished family tradition for many. \n  \nSingle tickets for this event range from $25-$54 including fees ($50+fees orchestra premium & orchestra aisle; $41+fees orchestra & lower balcony; $21+fees upper balcony; Tibbits member & student discounts available). Doors will open one hour prior to showtime and seating will begin 30 minutes prior to showtime. No outside food or drink allowed in the theatre. Runtime is approximately 90 minutes plus intermission.  \n  \nPlease help keep our community healthy. If you are ill or experiencing any symptoms\, please DO NOT attend a performance. Click HERE to view our rescheduling and refund policy.
URL:https://myladd.laddinc.net/event/the-winter-of-winter/
LOCATION:Tibbits Opera House\, 14 S Hanchett St\, Coldwater\, MI\, 49036\, United States
CATEGORIES:Calhoun County Events,Wheelchair Accessible,Music
ATTACH;FMTTYPE=image/jpeg:https://myladd.laddinc.net/wp-content/uploads/2025/12/image-5.jpeg
END:VEVENT
BEGIN:VEVENT
DTSTART;TZID=America/New_York:20251206T163000
DTEND;TZID=America/New_York:20251206T203000
DTSTAMP:20260421T085725
CREATED:20251115T001548Z
LAST-MODIFIED:20251115T001548Z
UID:7717-1765038600-1765053000@myladd.laddinc.net
SUMMARY:44th Annual Candlelight Walk
DESCRIPTION:The event features guided tours to five historic homes decorated for Christmas. The walks will start promptly at the scheduled tour times. \nTour times are: Saturday 4:30pm & 6:45pm and Sunday 4:30pm & 6:45pm. \nEach tour begins with a reception at the Presbyterian Church at 200 W Mansion St\, Marshall\, MI 49068. Participants should arrive at least 30 minutes before their scheduled tour times to enjoy the reception and be ready to depart at their scheduled times. Tickets are $35 and are nonrefundable. This is a walking tour\, and participants should wear comfortable boots or shoes and be prepared for winter weather (this tour is not cancelled due to weather). Each tour group will have approximately 30 persons and make an escorted circuit of the five Candlelight Walk homes. Participants may be required to remove their boots/shoes before entering homes\, bags will be given to each participant to carry their shoes while touring the homes. \nFeatured Homes: \n1.Charles Lang and Sandy Tartaglia – 303 N Kalamazoo Ave \n2. Joelle and Wesley Knoch – 604 W. Prospect \n3. Victoria Bouwen – 340 N Mulberry \n4. Nancy and Mike Wojik – 130 W Hanover \n5. Honolulu House – 107 N Kalamazoo \n\n\n\n\n\n\n\n\n\n\nUPCOMING DATES\n\nSaturday\, December 6\nSunday\, December 7
URL:https://myladd.laddinc.net/event/44th-annual-candlelight-walk/
LOCATION:Presbyterian Church\, 200 W Mansion St\, Marshall\, MI\, 49068
CATEGORIES:Calhoun County Events,Community Events,Outdoors & Nature
END:VEVENT
BEGIN:VEVENT
DTSTART;TZID=America/New_York:20251206T180000
DTEND;TZID=America/New_York:20251206T203000
DTSTAMP:20260421T085725
CREATED:20251205T020024Z
LAST-MODIFIED:20251205T020024Z
UID:7917-1765044000-1765053000@myladd.laddinc.net
SUMMARY:Santa Saturday
DESCRIPTION:Santa will also be visiting the Merry Mile from 6:00-8:30pm in our Floral Hall.  Children of all ages are invited to share their holiday cheer and wishes with the jolliest elf! Once you drive through Merry Mile\, park in the parking area across from our Floral Hall gate\, and carefully walk into our beautifully decorated Floral Hall. There you will get a chance to meet with Santa and Mrs. Claus! \n  \n\nSpecial Event: Santa Saturday\n\nTime: 6:00-8:30pm\nLocation: Floral Hall\nSanta is FREE to visit with\, with a paid admission through Merry Mile.\nSanta will also be visiting the Merry Mile from 6:00-8:30pm in our Floral Hall.  Children of all ages are invited to share their holiday cheer and wishes with the jolliest elf! Once you drive through Merry Mile\, park in the parking area across from our Floral Hall gate\, and carefully walk into our beautifully decorated Floral Hall. There you will get a chance to meet with Santa  and Mrs. Claus!\n\n\nSpecial Event: 4H Craft\n\nTime: 6:00-9:00pm\nLocation: Floral Hall\nFREE Craft with 4H (while supplies last)
URL:https://myladd.laddinc.net/event/santa-saturday/
LOCATION:Calhoun County Fairgrounds\, 720 Fair Street\, Marshall\, MI\, 49068\, United States
CATEGORIES:Free Events,Calhoun County Events,Community Events
ATTACH;FMTTYPE=image/jpeg:https://myladd.laddinc.net/wp-content/uploads/2025/12/image-4.jpeg
END:VEVENT
BEGIN:VEVENT
DTSTART;TZID=America/New_York:20251206T180000
DTEND;TZID=America/New_York:20251206T210000
DTSTAMP:20260421T085725
CREATED:20251205T005731Z
LAST-MODIFIED:20251205T005731Z
UID:7873-1765044000-1765054800@myladd.laddinc.net
SUMMARY:Merry Mile
DESCRIPTION:The first day of December means Marshall gets merry with a mile of light displays at the fairgrounds. It’ll be open Thursday through Sunday for all of December (not including Christmas day). There will be special events throughout the month\, including visits from Santa\, crafts and a live nativity. Admission is $10 per car or $20 for vehicles with 9-15 passengers.   \n\n\n\n2025 SCHEDULE\nDates: December 4-28\, 2025 \nDays: Thursdays-Sundays \n(excluding Christmas) \nTime: 6:00-9:00 pm \n\n\n\n\n\n\nLOCATION DETAILS\nLocation: Calhoun County Fairgrounds\n720 Fair Street\, Marshall\, MI \nPhone: 269-781-8161 \nEmail: ccaisoffice@gmail.com \n\n\n\n\n\n\nPRICING INFORMATION\nVehicle up to 8 passengers : $10.00 \nVehicle carrying 9-15 passengers: $20.00 \nTrolley: $40.00 \nAny vehicle carrying more than 16 passengers: please contact the office for pricing and to confirm if we are able to accommodate. \nPayment Accepted : We accept Cash and Card at our Ticket Booth During Merry Mile Hours. \nPlease note there is a processing fee if paying by card.
URL:https://myladd.laddinc.net/event/merry-mile-3/
LOCATION:Calhoun County Fairgrounds\, 720 Fair Street\, Marshall\, MI\, 49068\, United States
CATEGORIES:Calhoun County Events,Community Events,Outdoors & Nature
ATTACH;FMTTYPE=image/jpeg:https://myladd.laddinc.net/wp-content/uploads/2025/12/image-3.jpeg
ORGANIZER;CN="Calhoun County Fairgrounds":MAILTO:ccaisoffice@gmail.com
END:VEVENT
BEGIN:VEVENT
DTSTART;TZID=America/New_York:20251206T193000
DTEND;TZID=America/New_York:20251206T210000
DTSTAMP:20260421T085725
CREATED:20251205T013958Z
LAST-MODIFIED:20251205T013958Z
UID:7914-1765049400-1765054800@myladd.laddinc.net
SUMMARY:Brass Band of Battle Creek Holiday Concert
DESCRIPTION:The Brass Band of Battle Creek’s annual Holiday Concert at W.K. Kellogg Auditorium has become a beloved tradition and marks the start of the holiday season for many in our audience. The BBBC brings many of the world’s best brass and percussion performers to Battle Creek each year to create inspiring and entertaining programs\, and the 2025 Holiday Concert promises to be one of the best ever!
URL:https://myladd.laddinc.net/event/brass-band-of-battle-creek-holiday-concert/
LOCATION:W.K. Kellogg Auditorium\, 50 West Van Buren Street\, Battle Creek\, MI\, 49017
CATEGORIES:Free Events,Calhoun County Events,Music,Community Events
END:VEVENT
END:VCALENDAR