BEGIN:VCALENDAR
VERSION:2.0
PRODID:-//LADD, Inc. - ECPv6.15.17.1//NONSGML v1.0//EN
CALSCALE:GREGORIAN
METHOD:PUBLISH
X-ORIGINAL-URL:https://myladd.laddinc.net
X-WR-CALDESC:Events for LADD, Inc.
REFRESH-INTERVAL;VALUE=DURATION:PT1H
X-Robots-Tag:noindex
X-PUBLISHED-TTL:PT1H
BEGIN:VTIMEZONE
TZID:America/New_York
BEGIN:DAYLIGHT
TZOFFSETFROM:-0500
TZOFFSETTO:-0400
TZNAME:EDT
DTSTART:20240310T070000
END:DAYLIGHT
BEGIN:STANDARD
TZOFFSETFROM:-0400
TZOFFSETTO:-0500
TZNAME:EST
DTSTART:20241103T060000
END:STANDARD
BEGIN:DAYLIGHT
TZOFFSETFROM:-0500
TZOFFSETTO:-0400
TZNAME:EDT
DTSTART:20250309T070000
END:DAYLIGHT
BEGIN:STANDARD
TZOFFSETFROM:-0400
TZOFFSETTO:-0500
TZNAME:EST
DTSTART:20251102T060000
END:STANDARD
BEGIN:DAYLIGHT
TZOFFSETFROM:-0500
TZOFFSETTO:-0400
TZNAME:EDT
DTSTART:20260308T070000
END:DAYLIGHT
BEGIN:STANDARD
TZOFFSETFROM:-0400
TZOFFSETTO:-0500
TZNAME:EST
DTSTART:20261101T060000
END:STANDARD
END:VTIMEZONE
BEGIN:VEVENT
DTSTART;TZID=America/New_York:20251128T090000
DTEND;TZID=America/New_York:20251128T110000
DTSTAMP:20260421T085741
CREATED:20251114T235334Z
LAST-MODIFIED:20251114T235334Z
UID:7705-1764320400-1764327600@myladd.laddinc.net
SUMMARY:Pastrami Joe's Give S'more Shuffle
DESCRIPTION:5K run and 1 mile fun run/walk \nFunds will be donated to the Fountain Clinic and canned goods will be donated to MACS
URL:https://myladd.laddinc.net/event/pastrami-joes-give-smore-shuffle/
LOCATION:111 N Jefferson St\, 111 N Jefferson St\, Marshall\, MI\, 49068
CATEGORIES:Calhoun County Events,Food & Drink,Community Events
ATTACH;FMTTYPE=image/png:https://myladd.laddinc.net/wp-content/uploads/2025/11/image-15.png
END:VEVENT
END:VCALENDAR