BEGIN:VCALENDAR
VERSION:2.0
PRODID:-//LADD, Inc. - ECPv6.15.17.1//NONSGML v1.0//EN
CALSCALE:GREGORIAN
METHOD:PUBLISH
X-WR-CALNAME:LADD, Inc.
X-ORIGINAL-URL:https://myladd.laddinc.net
X-WR-CALDESC:Events for LADD, Inc.
REFRESH-INTERVAL;VALUE=DURATION:PT1H
X-Robots-Tag:noindex
X-PUBLISHED-TTL:PT1H
BEGIN:VTIMEZONE
TZID:America/New_York
BEGIN:DAYLIGHT
TZOFFSETFROM:-0500
TZOFFSETTO:-0400
TZNAME:EDT
DTSTART:20240310T070000
END:DAYLIGHT
BEGIN:STANDARD
TZOFFSETFROM:-0400
TZOFFSETTO:-0500
TZNAME:EST
DTSTART:20241103T060000
END:STANDARD
BEGIN:DAYLIGHT
TZOFFSETFROM:-0500
TZOFFSETTO:-0400
TZNAME:EDT
DTSTART:20250309T070000
END:DAYLIGHT
BEGIN:STANDARD
TZOFFSETFROM:-0400
TZOFFSETTO:-0500
TZNAME:EST
DTSTART:20251102T060000
END:STANDARD
BEGIN:DAYLIGHT
TZOFFSETFROM:-0500
TZOFFSETTO:-0400
TZNAME:EDT
DTSTART:20260308T070000
END:DAYLIGHT
BEGIN:STANDARD
TZOFFSETFROM:-0400
TZOFFSETTO:-0500
TZNAME:EST
DTSTART:20261101T060000
END:STANDARD
END:VTIMEZONE
BEGIN:VEVENT
DTSTART;TZID=America/New_York:20251122T100000
DTEND;TZID=America/New_York:20251122T150000
DTSTAMP:20260421T085437
CREATED:20251114T234159Z
LAST-MODIFIED:20251114T234159Z
UID:7698-1763805600-1763823600@myladd.laddinc.net
SUMMARY:Holiday craft Market
DESCRIPTION:Holiday Craft Market
URL:https://myladd.laddinc.net/event/holiday-craft-market/
LOCATION:Heritage Commons Senior Enrichment Center\, 15885 W Michigan Ave\, Marshall\, MI\, 49068
CATEGORIES:Free Events,Calhoun County Events,Wheelchair Accessible,Community Events,Workshops & Classes
ATTACH;FMTTYPE=image/png:https://myladd.laddinc.net/wp-content/uploads/2025/11/image-13.png
END:VEVENT
BEGIN:VEVENT
DTSTART;TZID=America/New_York:20251122T173000
DTEND;TZID=America/New_York:20251122T200000
DTSTAMP:20260421T085437
CREATED:20251106T194244Z
LAST-MODIFIED:20251106T194244Z
UID:7623-1763832600-1763841600@myladd.laddinc.net
SUMMARY:Battle Creek Christmas Parade
DESCRIPTION:This year’s Battle Creek Christmas Parade\, organized and sponsored by the Harper Creek Optimist Club]\, is going to be great!\nMore details on parade route will be posted the week of the event.
URL:https://myladd.laddinc.net/event/battle-creek-christmas-parade/
LOCATION:Downtown Battle Creek\, Battle Creek\, MI
CATEGORIES:Free Events,Calhoun County Events,Wheelchair Accessible,Music,Community Events,Outdoors & Nature
ATTACH;FMTTYPE=image/jpeg:https://myladd.laddinc.net/wp-content/uploads/2025/11/image-5.jpeg
END:VEVENT
BEGIN:VEVENT
DTSTART;TZID=America/New_York:20251122T200000
DTEND;TZID=America/New_York:20251122T223000
DTSTAMP:20260421T085437
CREATED:20251114T234832Z
LAST-MODIFIED:20251114T234832Z
UID:7702-1763841600-1763850600@myladd.laddinc.net
SUMMARY:Comedy Night Featuring Stand Up Comedian\, Writer\, and Actor Yassir Lester
DESCRIPTION:Buy Tickets \nWebsite \nHe can most notably be seen on Showtime’s comedy series BLACK MONDAY. Previously\, he starred opposite Adam Pally in the Fox single camera comedy MAKING HISTORY produced by Lord & Miller\, and recurred on the NBC series CHAMPIONS. He was also a writer on KENAN for NBC\, GIRLS at HBO\, THE CARMICHAEL SHOW at NBC and BLACK AF at Netflix. Yassir is currently writing Marvel Studios’ upcoming feature ARMOR WARS and is currently starring in the SAUSAGE PARTY series coming to Amazon.
URL:https://myladd.laddinc.net/event/comedy-night-featuring-stand-up-comedian-writer-and-actor-yassir-lester/
LOCATION:The Franke Center for the Arts\, 214 East Mansion Street\, Marshall\, MI\, 49068
CATEGORIES:Calhoun County Events,Wheelchair Accessible,Community Events
ATTACH;FMTTYPE=image/png:https://myladd.laddinc.net/wp-content/uploads/2025/11/image-14.png
END:VEVENT
END:VCALENDAR