BEGIN:VCALENDAR
VERSION:2.0
PRODID:-//LADD, Inc. - ECPv6.15.17.1//NONSGML v1.0//EN
CALSCALE:GREGORIAN
METHOD:PUBLISH
X-ORIGINAL-URL:https://myladd.laddinc.net
X-WR-CALDESC:Events for LADD, Inc.
REFRESH-INTERVAL;VALUE=DURATION:PT1H
X-Robots-Tag:noindex
X-PUBLISHED-TTL:PT1H
BEGIN:VTIMEZONE
TZID:America/New_York
BEGIN:DAYLIGHT
TZOFFSETFROM:-0500
TZOFFSETTO:-0400
TZNAME:EDT
DTSTART:20240310T070000
END:DAYLIGHT
BEGIN:STANDARD
TZOFFSETFROM:-0400
TZOFFSETTO:-0500
TZNAME:EST
DTSTART:20241103T060000
END:STANDARD
BEGIN:DAYLIGHT
TZOFFSETFROM:-0500
TZOFFSETTO:-0400
TZNAME:EDT
DTSTART:20250309T070000
END:DAYLIGHT
BEGIN:STANDARD
TZOFFSETFROM:-0400
TZOFFSETTO:-0500
TZNAME:EST
DTSTART:20251102T060000
END:STANDARD
BEGIN:DAYLIGHT
TZOFFSETFROM:-0500
TZOFFSETTO:-0400
TZNAME:EDT
DTSTART:20260308T070000
END:DAYLIGHT
BEGIN:STANDARD
TZOFFSETFROM:-0400
TZOFFSETTO:-0500
TZNAME:EST
DTSTART:20261101T060000
END:STANDARD
END:VTIMEZONE
BEGIN:VEVENT
DTSTART;TZID=America/New_York:20251105T190000
DTEND;TZID=America/New_York:20251105T214500
DTSTAMP:20260421T085741
CREATED:20251107T221828Z
LAST-MODIFIED:20251107T221828Z
UID:7649-1762369200-1762379100@myladd.laddinc.net
SUMMARY:3rd Annual Community Christmas Extravaganza
DESCRIPTION:Get ready for an unforgettable evening of holiday cheer as Branch County Community Theatre brings the magic of Christmas to life! For one night only\, the historic Tibbits Opera House will be filled with music\, laughter\, and heartwarming performances from some of the most talented artists in the region.\n\nHosted by the charismatic BJ West\, this festive showcase will feature: \n\nAlley Roads and CHS Balladiers delivering musical delights\nSkits and scenes by Branch County Community Theatre\nHarmonies from the Branch County Community Choir\nA special performance by Joe Renshaw\nThe soulful sounds of Nino Emanuele\nStunning aerial footage courtesy of Combs Drone Service\nAnd yes… Elvis will be in the building!\nPre-Show Event: Before the curtain rises\, head to the Lower-Level Art Gallery from 5:30pm to 6:45pm for the Singers Showcase\, featuring Delbert Walling and Friends. No ticket required!\n\n\nWhether you’re a longtime supporter of the arts or simply looking for a joyful way to celebrate the season\, this Christmas Extravaganza promises to be a night to remember. Let the lights\, music\, and community spirit warm your heart this holiday season\n\n\nTickets for this event are $12 including fees ($10+fees). Doors will open at 5:30pm and seating will begin 30 minutes prior to showtime. No outside food or drink allowed in the theatre. Runtime is approximately two hours and 30 minutes plus intermission.\n\n\nPlease help keep our community healthy. If you are ill or experiencing any symptoms\, please DO NOT attend this performance.
URL:https://myladd.laddinc.net/event/3rd-annual-community-christmas-extravaganza/
LOCATION:Tibbits Opera House\, 14 S Hanchett St\, Coldwater\, MI\, 49036\, United States
CATEGORIES:Calhoun County Events,Music,Community Events
ATTACH;FMTTYPE=image/png:https://myladd.laddinc.net/wp-content/uploads/2025/11/3586.png
END:VEVENT
END:VCALENDAR