BEGIN:VCALENDAR
VERSION:2.0
PRODID:-//LADD, Inc. - ECPv6.15.17.1//NONSGML v1.0//EN
CALSCALE:GREGORIAN
METHOD:PUBLISH
X-ORIGINAL-URL:https://myladd.laddinc.net
X-WR-CALDESC:Events for LADD, Inc.
REFRESH-INTERVAL;VALUE=DURATION:PT1H
X-Robots-Tag:noindex
X-PUBLISHED-TTL:PT1H
BEGIN:VTIMEZONE
TZID:America/New_York
BEGIN:DAYLIGHT
TZOFFSETFROM:-0500
TZOFFSETTO:-0400
TZNAME:EDT
DTSTART:20240310T070000
END:DAYLIGHT
BEGIN:STANDARD
TZOFFSETFROM:-0400
TZOFFSETTO:-0500
TZNAME:EST
DTSTART:20241103T060000
END:STANDARD
BEGIN:DAYLIGHT
TZOFFSETFROM:-0500
TZOFFSETTO:-0400
TZNAME:EDT
DTSTART:20250309T070000
END:DAYLIGHT
BEGIN:STANDARD
TZOFFSETFROM:-0400
TZOFFSETTO:-0500
TZNAME:EST
DTSTART:20251102T060000
END:STANDARD
BEGIN:DAYLIGHT
TZOFFSETFROM:-0500
TZOFFSETTO:-0400
TZNAME:EDT
DTSTART:20260308T070000
END:DAYLIGHT
BEGIN:STANDARD
TZOFFSETFROM:-0400
TZOFFSETTO:-0500
TZNAME:EST
DTSTART:20261101T060000
END:STANDARD
END:VTIMEZONE
BEGIN:VEVENT
DTSTART;TZID=America/New_York:20251029T183000
DTEND;TZID=America/New_York:20251029T200000
DTSTAMP:20260421T085709
CREATED:20251027T194322Z
LAST-MODIFIED:20251027T194322Z
UID:7397-1761762600-1761768000@myladd.laddinc.net
SUMMARY:Bruin Boo!
DESCRIPTION:  \n\n\n  \nBruin Boo returns Oct. 29!\nKellogg Community College invites kids and their families to an evening of free trick-or-treating and Halloween fun during the return of KCC’s award-winning Bruin Boo event on campus in October.\nBruin Boo is a family-friendly\, free event for kids of all ages that will be held from 6:30 to 8 p.m. Wednesday\, Oct. 29\, on KCC’s campus at 450 North Ave.\, Battle Creek.\nDuring the event\, KCC students and employees alike will be “dressed to impress in their Halloween best” to hand out candy and other giveaways to community trick-or-treaters at dozens of stations on campus.\nIn addition to trick-or-treating\, Bruin Boo activities will include:\n> Halloween games and activities led by KCC students and employees> Halloween-themed coloring pages designed by KCC’s Graphic Design students> Face painting> Additional fun and giveaways from our community sponsors> And much more!\nStay tuned for more details as the event gets closer. For sponsorship opportunities\, visit kellogg.edu/bruinboo.\n 
URL:https://myladd.laddinc.net/event/bruin-boo/
LOCATION:Kellogg Community College – Battle Creek\, 450 North Ave\, Battle Creek\, MI\, 49017\, United States
CATEGORIES:Free Events,Calhoun County Events,Wheelchair Accessible,Community Events,Outdoors & Nature
ATTACH;FMTTYPE=image/jpeg:https://myladd.laddinc.net/wp-content/uploads/2025/10/image-3.jpeg
END:VEVENT
END:VCALENDAR